BEGIN:VCALENDAR
VERSION:2.0
PRODID:-//Motiefgroep Schaken - ECPv6.15.20//NONSGML v1.0//EN
CALSCALE:GREGORIAN
METHOD:PUBLISH
X-WR-CALNAME:Motiefgroep Schaken
X-ORIGINAL-URL:https://euwe.nl
X-WR-CALDESC:Evenementen voor Motiefgroep Schaken
REFRESH-INTERVAL;VALUE=DURATION:PT1H
X-Robots-Tag:noindex
X-PUBLISHED-TTL:PT1H
BEGIN:VTIMEZONE
TZID:UTC
BEGIN:STANDARD
TZOFFSETFROM:+0000
TZOFFSETTO:+0000
TZNAME:UTC
DTSTART:20230101T000000
END:STANDARD
END:VTIMEZONE
BEGIN:VEVENT
DTSTART;TZID=UTC:20260418T093000
DTEND;TZID=UTC:20260418T170000
DTSTAMP:20260426T000346
CREATED:20251216T155908Z
LAST-MODIFIED:20260117T153357Z
UID:4409-1776504600-1776531600@euwe.nl
SUMMARY:Voorjaarscontactdag Motiefgroep Schaken in Driebergen
DESCRIPTION:De jaarlijkse contactdag van de Motiefgroep Schaken.
URL:https://euwe.nl/event/voorjaarscontactdag-motiefgroep-schaken-in-driebergen/
LOCATION:parkflat Beukenhorst (Driebergen)\, Beukenhorst 2\, Driebergen- Rijsenburg\, 3972 HA\, Netherlands
END:VEVENT
BEGIN:VEVENT
DTSTART;TZID=UTC:20241116T090000
DTEND;TZID=UTC:20241116T170000
DTSTAMP:20260426T000347
CREATED:20241101T101300Z
LAST-MODIFIED:20251010T102829Z
UID:2237-1731747600-1731776400@euwe.nl
SUMMARY:Najaarscontactdag Motiefgroep Schaken op 16 november 2024 in Deurne
DESCRIPTION:In Den Draai hebben we een grote zaal\, namelijk een toneelzaal met een groot podium. Hier kunnen ook een paar honderd mensen in en er worden dan ook regelmatig tentoonstellingen of hobbymarkten gehouden. Er is een ruime hoeveelheid tafels en stoelen en de foyer is ruim opgezet en biedt voldoende gelegenheid om er even tegaan zitten\, met elkaar te praten en / of een kop koffie of iets dergelijks te nuttigen. Ook in 2013\, 2016 en 2017 heeft de Motiefgroep hier een contactdag gehouden.  \nDrank\, broodjes en soep zijn aanwezig.\n\n Dagprogramma:\nDagprogramma Najaarscontactdag 16 november in Deurne:\n09.30   Zaal open\, gelegenheid tot ruilen\, kopen enz.\n11.30   Lezing Bas de Haas: hoe komt een schaakprobleem tot stand?\n12.45   Gelegenheid tot lunch\n13.20   Groepsfoto\n13.30   Veiling\n15.30   Fischerrandom-toernooi o.l.v. Nico Schoenmakers\nspeeltempo: 13 minuten + een increment van 5 seconden per zet\n17.00   Sluiting zaal\n\nBij voldoende belangstelling is er aan het einde van de dag de mogelijkheid om met elkaar bij een lokaal restaurant te gaan eten.\n\n Bereikbaarheid auto\nvanuit Utrecht\n– neem de A2\n– afslag 21-Veghel naar N279 richting Helmond\n– volg de N279 tot\n– volg de N270 richting Helmond/Eindhoven/Deurne/Venray\n– Neem de afslag richting Bakelseweg – 290 m\n– Sla rechtsaf naar de Bakelseweg – 70 m\n– Weg vervolgen naar Houtenhoekweg – 450 m\n– Neem op de rotonde de 2e afslag naar Heuvelstraat – 300 m\n– Weg vervolgen naar Lagekerk – 160 m\n– Sla rechtsaf naar de Stadhoudersweg – 700 m\n– Sla linksaf naar de Amstel – 700 m\n– Weg vervolgen naar Hagelkruisweg – 600 m\n– Weg vervolgen naar Blasiusstraat\, u vindt uw bestemming rechts\n\n \n\nvanuit Rotterdam\n– Neem de A16\n– Neem bij knooppunt Galder de A58 richting Tilburg/Eindhoven/Breda-oost/A27\n– Neem bij Knooppunt Batadorp de A2/E25 richting Maastricht/Venlo\n– Flauwe bocht naar rechts naar de A67/E34 (borden naar Venlo/Duisburg)\n– Neem afslag 37-Liessel richting Neerkant\n– Sla linksaf naar de Koeweideweg – 650 m\n– Neem op de rotonde de 2e afslag naar Snoertsebaan\, Ga rechtdoor over één rotonde – 3\,4 km\n– Sla rechtsaf om op de Snoertsebaan te blijven – 3\,3 km\n– Sla linksaf naar de Griendtsveenseweg – 1\,1 km\n– Weg vervolgen naar Blasiusstraat\, U vindt uw bestemming links\n\n\nNaast het gebouw bevindt zich een groot – en gratis – parkeerterrein.\n\nBereikbaarheid Openbaar vervoer\nDeurne heeft een treinstation\, waar intercitytreinen stoppen.\nHet station is circa 10 a 15 minuten lopen van Den Draai lopen. \n\n\nVoor de buitenlandse bezoekers: In Deurne en omgeving zijn diverse hotels waar tegen een redelijke prijs overnachting te regelen zijn.\n\n 
URL:https://euwe.nl/event/najaarscontactdag-motiefgroep-schaken-op-16-november-2024-in-deurne/
LOCATION:Stichting sociaal cultureel centrum  Den Draai (Deurne)\, Blasiusstraat 2\, Deurne Zeilberg\, 5754 AV
END:VEVENT
END:VCALENDAR