BEGIN:VCALENDAR
VERSION:2.0
PRODID:-//Motiefgroep Schaken - ECPv6.15.20//NONSGML v1.0//EN
CALSCALE:GREGORIAN
METHOD:PUBLISH
X-WR-CALNAME:Motiefgroep Schaken
X-ORIGINAL-URL:https://euwe.nl
X-WR-CALDESC:Evenementen voor Motiefgroep Schaken
REFRESH-INTERVAL;VALUE=DURATION:PT1H
X-Robots-Tag:noindex
X-PUBLISHED-TTL:PT1H
BEGIN:VTIMEZONE
TZID:UTC
BEGIN:STANDARD
TZOFFSETFROM:+0000
TZOFFSETTO:+0000
TZNAME:UTC
DTSTART:20230101T000000
END:STANDARD
END:VTIMEZONE
BEGIN:VEVENT
DTSTART;TZID=UTC:20260418T093000
DTEND;TZID=UTC:20260418T170000
DTSTAMP:20260426T030948
CREATED:20251216T155908Z
LAST-MODIFIED:20260117T153357Z
UID:4409-1776504600-1776531600@euwe.nl
SUMMARY:Voorjaarscontactdag Motiefgroep Schaken in Driebergen
DESCRIPTION:De jaarlijkse contactdag van de Motiefgroep Schaken.
URL:https://euwe.nl/event/voorjaarscontactdag-motiefgroep-schaken-in-driebergen/
LOCATION:parkflat Beukenhorst (Driebergen)\, Beukenhorst 2\, Driebergen- Rijsenburg\, 3972 HA\, Netherlands
END:VEVENT
BEGIN:VEVENT
DTSTART;TZID=UTC:20251227T080000
DTEND;TZID=UTC:20251231T170000
DTSTAMP:20260426T030948
CREATED:20251227T201014Z
LAST-MODIFIED:20260409T074447Z
UID:4421-1766822400-1767200400@euwe.nl
SUMMARY:Tentoonstelling 'De geboorte van de stad - Op zoek naar middeleeuws Amsterdam' in Gemeente Amsterdam Stadsarchief
DESCRIPTION:Dit jaar viert Amsterdam haar 750-jarig bestaan. Het leidt tot veel extra activiteiten in de stad\, waaronder van 7 maart 2025 t/m 6 juli 2025 de tentoonstelling ‘De geboorte van de stad. Op zoek naar middeleeuws Amsterdam’ in het Stadsarchief Amsterdam.Deze tentoonstelling vertelt aan de hand van archeologische vondsten de oudste geschiedenis van de stad\, nog zelfs voor de officiële geboortedatum van de stad\, het door graaf Floris V uitgevaardigde tolprivilege van 27 oktober 1275. \n\n\n\n\nIn die tentoonstelling stond ook bijgaande schaakstuk\, een Paard\, gedateerd 1375-1425. “Dit schaakstuk\, het paard\, is gevonden tussen het afval van wachters van de Sint-Olofpoort\, dat daar in de stadsgracht was gegooid\, Been\, 4 cm hoog.” Bij de tentoonstelling is ook een gelijknamig boek verschenen\, waarin het schaakstuk ook is opgenomen.
URL:https://euwe.nl/event/tentoonstelling-de-geboorte-van-de-stad-op-zoek-naar-middeleeuws-amsterdam-in-gemeente-amsterdam-stadsarchief/
LOCATION:Gemeente Amsterdam Stadsarchief\, Vijzelstraat 32\, Amsterdam\, Noord-Holland\, Netherlands
END:VEVENT
BEGIN:VEVENT
DTSTART;TZID=UTC:20251216T080000
DTEND;TZID=UTC:20260208T170000
DTSTAMP:20260426T030948
CREATED:20251227T202116Z
LAST-MODIFIED:20251227T202118Z
UID:4431-1765872000-1770570000@euwe.nl
SUMMARY:Schaaktentoonstelling in museum Belvédère in Heerenveen
DESCRIPTION:Van half december 2025 t/m 8 februari 2026 heeft Museum Belvédère een kleine tentoonstelling met zes bijzondere schaakspellen uit de eigen collectie. \n\n\n\n\nDaaronder het hiernaast afgebeelde schaakspel van Vilmos Huszár. Deze Hongaars-Nederlandse kunstenaar was een van de oprichters van de Stijl.  \n\n\n\n\nDe tentoonstelling wordt aangevuld met het van het Max Euwe Centrum geleende schaakbord\, waarop Euwe in 1935 wereldkampioen werd.
URL:https://euwe.nl/event/schaaktentoonstelling-in-museum-belvedere-in-heerenveen/
LOCATION:museum Belvédère (Heerenveen)\, Oranje Nassaulaan 12\, Heerenveen-Oranjewoud\, Friesland\, Netherlands
END:VEVENT
BEGIN:VEVENT
DTSTART;TZID=UTC:20251025T090000
DTEND;TZID=UTC:20251025T170000
DTSTAMP:20260426T030948
CREATED:20251008T180318Z
LAST-MODIFIED:20251010T102436Z
UID:2270-1761382800-1761411600@euwe.nl
SUMMARY:Najaarscontactdag Motiefgroep Schaken op 25 oktober 2025 in Arnhem
DESCRIPTION:De najaarscontactdag van de Motiefgroep zal op zaterdag 25 oktober 2025 in Arnhem plaatsvinden.Op het programma staan onder meer twee lezingen door de oud-secretaris van de Motiefgroep\, Rob Spaans\, en schaaktrainer Willy Hendriks. \nOok worden er schaakfilms vertoond en kan aan een Fischerrandomschaaktoernooi onder leiding van Geert Stradmeijer worden deelgenomen. \nDeelname is gratis\, zowel voor leden als niet-leden van de Motiefgroep. Lid worden van de motiefgroep Schaken mag uiteraard wel! Graag zelfs!! \nVooraf aanmelden is niet nodig. Wel is het\, met het oog op het inkopen\, gewenst vooraf per mail – nicoschoenmakers@kpnplanet.nl – aan te geven of van de (eenvoudige) lunchmogelijkheid gebruik wordt gemaakt. \nDit is voor de Motiefgroep Schaken een bekende plek\, want op dezelfde locatie vond ook in 2012\, 2019\, 2021\, 2022 en 2023 een contactdag plaats.Er is een bar in het clubgebouw aanwezig. Koffie / thee en andere drankjes alsmede broodjes zijn tegen billijk tarief verkrijgbaar. \n\n\n\n Dagprogramma:Het ochtendprogramma begint om 09:30 uur Zaal open\, gelegenheid tot ruilen\, kopen\, netwerken\, enz. Om 11:00 uur is er een lezing door Rob Spaans \nVanaf 12:00 tot 14:00 is er gelegenheid tot lunch    Het middagprogramma begint om 14:00 en valt in drie parallel sessie uiteen:I. Van 14:00 tot 16:00 uur verzorgt Willy Hendriks een lezing.II. Van 14:00 tot 17:00 uur worden er drie films vertoond.III. Van 14:00 tot 17:00 uur is er gelegenheid tot deelname aan het Fischer random schaaktoernooi. \nRond 17:00 is de sluiting.    Voor meer achtergrondinformatie kunt u hier het dagprogramma downloaden Download het dagprogramma
URL:https://euwe.nl/event/najaarscontactdag-motiefgroep-schaken-op-25-oktober-2025-in-arnhem/
LOCATION:clubgebouw Dagbesteding het Pleijwerk\, Vlamoven 22-24\, Arnhem\, Netherlands
ATTACH;FMTTYPE=image/png:https://euwe.nl/wp-content/uploads/2025/10/Arnhem2019-02.png
END:VEVENT
BEGIN:VEVENT
DTSTART;TZID=UTC:20251018T080000
DTEND;TZID=UTC:20260222T170000
DTSTAMP:20260426T030948
CREATED:20251227T202432Z
LAST-MODIFIED:20251227T202449Z
UID:4436-1760774400-1771779600@euwe.nl
SUMMARY:Tentoonstelling ‘Johannes Esser – Bevlogen idealist’ in het Mondriaanmuseum in Amersfoort
DESCRIPTION:Onder bovenstaande titel vindt er van 18 oktober 2025 t/m 22 februari 2026 een tentoonstelling plaats in het Mondriaanmuseum in Amersfoort. Als inleiding bij de tentoonstelling schrijft het museum: “Johannes Esser was een verwoed kunstverzamelaar. Maar wie was deze de man eigenlijk? Neem een kijkje in het leven van deze bijzondere persoonlijkheid\, die ook naam maakte als plastisch chirurg\, huisarts\, ondernemer én Nederlands schaakkampioen.”.
URL:https://euwe.nl/event/tentoonstelling-johannes-esser-bevlogen-idealist-in-het-mondriaanmuseum-in-amersfoort/
LOCATION:Mondriaanhuis (Amersfoort)\, Kortegracht 11\, Amersfoort\, Netherlands
END:VEVENT
BEGIN:VEVENT
DTSTART;TZID=UTC:20251011T000000
DTEND;TZID=UTC:20260406T235959
DTSTAMP:20260426T030948
CREATED:20251008T193459Z
LAST-MODIFIED:20260310T140718Z
UID:2279-1760140800-1775519999@euwe.nl
SUMMARY:Erwin Olaf Freedom
DESCRIPTION:Tentoonstelling — 11 oktober 2025 t/m 1 maart 2026 \n\n\n\n\n\nTentoonstelling is verlengd tot 6 april 2026 \n\n\n\n\n\n\n\nHet eerste museale overzicht na zijn plotselinge overlijden twee jaar geleden: Erwin Olaf – Freedom. Een eerbetoon aan de veelzijdige en gelaagde kunstenaar die hij was\, met aandacht voor zijn gehele creatieve proces. Naast iconische kunstwerken en series van Erwin Olaf zal er ook minder bekend werk te zien zijn\, waaronder video’s en sculpturen\, zijn werk voor reclame en persoonlijk archiefmateriaal. Zijn laatste werk\, een onvoltooid videowerk\, vormt het slotstuk van de tentoonstelling. \n\n\n\n\n\n\n\n\n\n\n\nVRIJDENKER\n\n\n\nErwin Olaf Springveld (1959-2023) staat internationaal bekend als een van de meest vooraanstaande Nederlandse fotokunstenaars\, geroemd om zijn karakteristieke enscenering\, unieke belichting\, perfectionisme en spraakmakende onderwerpen. Hij was een vrijdenker\, en het nastreven van persoonlijke vrijheid was de basis voor alles wat hij deed – of het nu betrekking had op identiteit\, seksualiteit en gender\, het menselijk lichaam in al zijn verschijningsvormen\, het nachtleven of gelijke rechten voor iedereen. Zijn activistische levenshouding vormt de rode draad in de tentoonstelling\, die thematisch van opzet is\, maar ook een losse chronologische lijn volgt. \n\n\n\n\n\n\n\nDE TENTOONSTELLING\n\n\n\nDe tentoonstelling is een reis door het rijke oeuvre van Erwin Olaf\, te beginnen met zijn journalistieke\, uit de hand geschoten zwartwit reportages van begin jaren 80. Die laten al zijn geëngageerdheid zien\, met onderwerpen als demonstraties voor homorechten. Zijn liefde voor licht en compositie is duidelijk aanwezig; zijn wens om meer regie te hebben leidt hem naar zijn volgende stap: geënsceneerde studiofotografie. Daarvan zijn in de tentoonstelling iconische en minder bekende voorbeelden te zien\, uit series als Ladies Hats (1985-2022)\, Chessmen (1987-88)\, Royal Blood (2000)\, Grief (2007)\, Fashion Victims (2000)\, Berlin (2012) en Skin Deep (2015)\, en werk in opdracht zoals SM in Holland (1989) en fotografie voor het Nederlands Dans Theater en Het Nationale Ballet. \n\n\n\nZie over Erwin Olaf ook eerder gepubliceerde artikelen op onze website:– Chessmen van Erwin Olaf in Fotomuseum Den Haag– Erwin Olaf in het Groninger museum
URL:https://euwe.nl/event/erwin-olaf-freedom/
LOCATION:Stedelijk Museum Amsterdam\, Museumplein 10\, Amsterdam\, 1071 DJ\, Netherlands
ATTACH;FMTTYPE=image/jpeg:https://euwe.nl/wp-content/uploads/2025/10/erwin-olaf-i-wish-i-am-i-will-be-kopie_high-res.jpg
END:VEVENT
BEGIN:VEVENT
DTSTART;TZID=UTC:20241116T090000
DTEND;TZID=UTC:20241116T170000
DTSTAMP:20260426T030948
CREATED:20241101T101300Z
LAST-MODIFIED:20251010T102829Z
UID:2237-1731747600-1731776400@euwe.nl
SUMMARY:Najaarscontactdag Motiefgroep Schaken op 16 november 2024 in Deurne
DESCRIPTION:In Den Draai hebben we een grote zaal\, namelijk een toneelzaal met een groot podium. Hier kunnen ook een paar honderd mensen in en er worden dan ook regelmatig tentoonstellingen of hobbymarkten gehouden. Er is een ruime hoeveelheid tafels en stoelen en de foyer is ruim opgezet en biedt voldoende gelegenheid om er even tegaan zitten\, met elkaar te praten en / of een kop koffie of iets dergelijks te nuttigen. Ook in 2013\, 2016 en 2017 heeft de Motiefgroep hier een contactdag gehouden.  \nDrank\, broodjes en soep zijn aanwezig.\n\n Dagprogramma:\nDagprogramma Najaarscontactdag 16 november in Deurne:\n09.30   Zaal open\, gelegenheid tot ruilen\, kopen enz.\n11.30   Lezing Bas de Haas: hoe komt een schaakprobleem tot stand?\n12.45   Gelegenheid tot lunch\n13.20   Groepsfoto\n13.30   Veiling\n15.30   Fischerrandom-toernooi o.l.v. Nico Schoenmakers\nspeeltempo: 13 minuten + een increment van 5 seconden per zet\n17.00   Sluiting zaal\n\nBij voldoende belangstelling is er aan het einde van de dag de mogelijkheid om met elkaar bij een lokaal restaurant te gaan eten.\n\n Bereikbaarheid auto\nvanuit Utrecht\n– neem de A2\n– afslag 21-Veghel naar N279 richting Helmond\n– volg de N279 tot\n– volg de N270 richting Helmond/Eindhoven/Deurne/Venray\n– Neem de afslag richting Bakelseweg – 290 m\n– Sla rechtsaf naar de Bakelseweg – 70 m\n– Weg vervolgen naar Houtenhoekweg – 450 m\n– Neem op de rotonde de 2e afslag naar Heuvelstraat – 300 m\n– Weg vervolgen naar Lagekerk – 160 m\n– Sla rechtsaf naar de Stadhoudersweg – 700 m\n– Sla linksaf naar de Amstel – 700 m\n– Weg vervolgen naar Hagelkruisweg – 600 m\n– Weg vervolgen naar Blasiusstraat\, u vindt uw bestemming rechts\n\n \n\nvanuit Rotterdam\n– Neem de A16\n– Neem bij knooppunt Galder de A58 richting Tilburg/Eindhoven/Breda-oost/A27\n– Neem bij Knooppunt Batadorp de A2/E25 richting Maastricht/Venlo\n– Flauwe bocht naar rechts naar de A67/E34 (borden naar Venlo/Duisburg)\n– Neem afslag 37-Liessel richting Neerkant\n– Sla linksaf naar de Koeweideweg – 650 m\n– Neem op de rotonde de 2e afslag naar Snoertsebaan\, Ga rechtdoor over één rotonde – 3\,4 km\n– Sla rechtsaf om op de Snoertsebaan te blijven – 3\,3 km\n– Sla linksaf naar de Griendtsveenseweg – 1\,1 km\n– Weg vervolgen naar Blasiusstraat\, U vindt uw bestemming links\n\n\nNaast het gebouw bevindt zich een groot – en gratis – parkeerterrein.\n\nBereikbaarheid Openbaar vervoer\nDeurne heeft een treinstation\, waar intercitytreinen stoppen.\nHet station is circa 10 a 15 minuten lopen van Den Draai lopen. \n\n\nVoor de buitenlandse bezoekers: In Deurne en omgeving zijn diverse hotels waar tegen een redelijke prijs overnachting te regelen zijn.\n\n 
URL:https://euwe.nl/event/najaarscontactdag-motiefgroep-schaken-op-16-november-2024-in-deurne/
LOCATION:Stichting sociaal cultureel centrum  Den Draai (Deurne)\, Blasiusstraat 2\, Deurne Zeilberg\, 5754 AV
END:VEVENT
BEGIN:VEVENT
DTSTART;TZID=UTC:20240413T090000
DTEND;TZID=UTC:20240413T170000
DTSTAMP:20260426T030948
CREATED:20240413T181121Z
LAST-MODIFIED:20251010T102840Z
UID:2273-1712998800-1713027600@euwe.nl
SUMMARY:Voorjaarscontactdag Motiefgroep Schaken op 13 april 2024 in Alphen aan de Rijn
DESCRIPTION:De voorjaarscontactdag 2024 van de Motiefgroep zal op zaterdag 13 april in Zalencentrum de Bron in Alphen aan den Rijn plaatsvinden.Op het eigen terrein van de Bron zijn zo’n 10 vrije parkeerplaatsen en er zijn aan de overkant van de straat parkeerhaventjes. Bovendien ligt de Bron aan de rand van het winkelcentrum de Ridderhof\, hetgeen betekent dat er op enkele honderden meters een gratis parkeergarage aanwezig is. \n\nEn voor de mensen die met het openbaar vervoer willen komen: Bushalte Ridderhof\, Alphen aan de Rijn ligt op minder dan 5 minuten van Zalencentrum de Bron verwijderd.\n\nDagprogramma: \n09.30 Zaal open\, gelegenheid tot ruilen\, kopen enz.\n11.30 Lezing Leo Hovenstadt : Schaakgeschiedenis dateren\n12.30 Algemene Ledenvergadering\n13.00 Gelegenheid tot lunch\n13.50 Groepsfoto\n14.00 Veiling\n16.00 Gelegenheid tot ruilen\, kopen enz.\n17.00 Sluiting zaal\n\nTegenover onze zaal in de Bron is er een bar aanwezig.\nKoffie / thee en andere drankjes alsmede broodjes zijn tegen billijk tarief verkrijgbaar.
URL:https://euwe.nl/event/voorjaarscontactdag-motiefgroep-schaken-op-13-april-2024-in-alphen-aan-de-rijn/
LOCATION:De Bron (Alphen aan den Rijn)\, Troubadourweg 2\, Alphen aan den Rijn\, Zuid-Holland\, 2402 EP\, Netherlands
END:VEVENT
END:VCALENDAR